BEGIN:VCALENDAR
VERSION:2.0
BEGIN:VEVENT
CLASS:PUBLIC
CATEGORIES:MEETING
DTSTART;TZID=America/Los_Angeles:20220917T203000
DTEND;TZID=America/Los_Angeles:20220917T203000
SUMMARY:Silver Lining at St. John of God Fiesta l
DESCRIPTION:Age Limit: All Ages
LOCATION:St. John of God Fiesta l - 13819 Pioneer Bl, Norwalk, CA, 90650, US
END:VEVENT

END:VCALENDAR
