BEGIN:VCALENDAR
VERSION:2.0
BEGIN:VEVENT
CLASS:PUBLIC
CATEGORIES:MEETING
DTSTART;TZID=America/Chicago:20221008T200000
DTEND;TZID=America/Chicago:20221008T200000
SUMMARY:Soul Punch at Jaegar Party
DESCRIPTION:Age Limit: All Ages\n\nDetails: Yearly private party for the Jaegars! Always a really fun gig! 
LOCATION:Jaegar Party - Party Place, St. Louis, MO, US
END:VEVENT

END:VCALENDAR
