BEGIN:VCALENDAR
VERSION:2.0
BEGIN:VEVENT
CLASS:PUBLIC
CATEGORIES:MEETING
DTSTART;TZID=Asia/Dubai:20230101T200000
DTEND;TZID=Asia/Dubai:20230101T200000
SUMMARY:Jacquescoley® at Music Hall Dubai
DESCRIPTION:Price: $500.00\nClick here to buy tickets: https://www.iheart.com/artist/jacquescoley-394660/\nAge Limit: 17+\n\nDetails: TBD
LOCATION:Music Hall Dubai - Jumeirah, Dubai, 50197, AE
END:VEVENT

END:VCALENDAR
