BEGIN:VCALENDAR
VERSION:2.0
BEGIN:VEVENT
CLASS:PUBLIC
CATEGORIES:MEETING
DTSTART;TZID=America/Los_Angeles:20220923T190000
DTEND;TZID=America/Los_Angeles:20220923T190000
SUMMARY:Silver Lining at Glory Days Beachside Grill
DESCRIPTION:Price: Free\nAge Limit: All Ages
LOCATION:Glory Days Beachside Grill - 620 Pacific Coast Highway, Seal Beach, CA, 90740, US
END:VEVENT

END:VCALENDAR
