BEGIN:VCALENDAR
VERSION:2.0
BEGIN:VEVENT
CLASS:PUBLIC
CATEGORIES:MEETING
DTSTART;TZID=America/Los_Angeles:20221028T190000
DTEND;TZID=America/Los_Angeles:20221028T190000
SUMMARY:Silver Lining at Malainey's Grill & One Hell of an Irish Bar
DESCRIPTION:Price: Free\nAge Limit: All Ages\n\nDetails: This is Silver Lining&#39;s Halloween Show!!!
LOCATION:Malainey's Grill & One Hell of an Irish Bar - 168 North Marina Drive, Long Beach, CA, 90803, US
END:VEVENT

END:VCALENDAR
