BEGIN:VCALENDAR
VERSION:2.0
BEGIN:VEVENT
CLASS:PUBLIC
CATEGORIES:MEETING
DTSTART;TZID=America/Chicago:20220910T160000
DTEND;TZID=America/Chicago:20220910T160000
SUMMARY:Soul Punch at Washington Brewfest
DESCRIPTION:Age Limit: All Ages\n\nDetails: Charity event for the Washington MO Jaycees for scholarships and local projects. 4-8PM
LOCATION:Washington Brewfest - 317 W Main St., Washington, MO, 63090, US
END:VEVENT

END:VCALENDAR
