BEGIN:VCALENDAR
VERSION:2.0
BEGIN:VEVENT
CLASS:PUBLIC
CATEGORIES:MEETING
DTSTART;TZID=America/New_York:20220723T180000
DTEND;TZID=America/New_York:20220723T180000
SUMMARY:Mechanical Renegade at WV Anchor
DESCRIPTION:Price: free\nAge Limit: All Ages\n\nDetails: The Mechanical Renegade&#39;s official public return hosting karaoke at the WV Anchor.
LOCATION:WV Anchor - 3315 Kanawha Blvd E, Charleston, WV, 25306, US
END:VEVENT

END:VCALENDAR
