BEGIN:VCALENDAR
VERSION:2.0
BEGIN:VEVENT
CLASS:PUBLIC
CATEGORIES:MEETING
DTSTART;TZID=America/Los_Angeles:20220731T140000
DTEND;TZID=America/Los_Angeles:20220731T140000
SUMMARY:Silver Lining at Biergarten@ Old World HB
DESCRIPTION:Age Limit: All Ages
LOCATION:Biergarten@ Old World HB - 7561 Center Ave #49, Huntington Beach, CA, 92647, US
END:VEVENT

END:VCALENDAR
