BEGIN:VCALENDAR
VERSION:2.0
BEGIN:VEVENT
CLASS:PUBLIC
CATEGORIES:MEETING
DTSTART;TZID=America/Los_Angeles:20220603T190000
DTEND;TZID=America/Los_Angeles:20220603T190000
SUMMARY:Silver Lining at Surf City Ale House 
DESCRIPTION:Age Limit: All Ages
LOCATION:Surf City Ale House  - 301 Main St., Huntington Beach, CA, 92648, US
END:VEVENT

END:VCALENDAR
