BEGIN:VCALENDAR
VERSION:2.0
BEGIN:VEVENT
CLASS:PUBLIC
CATEGORIES:MEETING
DTSTART;TZID=America/Los_Angeles:20220820T200000
DTEND;TZID=America/Los_Angeles:20220820T200000
SUMMARY:Silver Lining at Posse Bar
DESCRIPTION:Age Limit: 21+
LOCATION:Posse Bar - 13093 Springdale Street, Westminster, CA, 92683, US
END:VEVENT

END:VCALENDAR
