BEGIN:VCALENDAR
VERSION:2.0
BEGIN:VEVENT
CLASS:PUBLIC
CATEGORIES:MEETING
DTSTART;TZID=America/New_York:20220702T183000
DTEND;TZID=America/New_York:20220702T183000
SUMMARY:Lady D at Cantrell Pub & Grill
DESCRIPTION:Age Limit: All Ages\n\nDetails: Lady D &amp; MI$$ION perform
LOCATION:Cantrell Pub & Grill - Gatewood Road, Fayetteville, WV, 25840, US
END:VEVENT

END:VCALENDAR
