BEGIN:VCALENDAR
VERSION:2.0
BEGIN:VEVENT
CLASS:PUBLIC
CATEGORIES:MEETING
DTSTART;TZID=America/New_York:20220618T190000
DTEND;TZID=America/New_York:20220618T190000
SUMMARY:Lady D at Southeast Ohio History Center
DESCRIPTION:Price: $20\nAge Limit: All Ages\n\nDetails: Lady D &amp; MI$$ION perform The Lady and the Empress. Southeast Ohio History Center 24 W. State St., Athens, OH.
LOCATION:Southeast Ohio History Center - 24 West State Street, Athens, OH, 45701, US
END:VEVENT

END:VCALENDAR
