BEGIN:VCALENDAR
VERSION:2.0
BEGIN:VEVENT
CLASS:PUBLIC
CATEGORIES:MEETING
DTSTART;TZID=America/New_York:20220617T183000
DTEND;TZID=America/New_York:20220617T183000
SUMMARY:Lady D at Parkersburg City Park
DESCRIPTION:Age Limit: All Ages\n\nDetails: Lady D &amp; MI$$ION perform at the Mid-Ohio Valley Multi-Cultural Festival.
LOCATION:Parkersburg City Park - Parkersburg, WV, US
END:VEVENT

END:VCALENDAR
