BEGIN:VCALENDAR
VERSION:2.0
BEGIN:VEVENT
CLASS:PUBLIC
CATEGORIES:MEETING
DTSTART;TZID=America/New_York:20220604T190000
DTEND;TZID=America/New_York:20220604T190000
SUMMARY:Lady D at Taylor Books
DESCRIPTION:Age Limit: All Ages\n\nDetails: Lady D performs 
LOCATION:Taylor Books - 226 Capitol Street, Charleston, WV, 25301, US
END:VEVENT

END:VCALENDAR
