BEGIN:VCALENDAR
VERSION:2.0
BEGIN:VEVENT
CLASS:PUBLIC
CATEGORIES:MEETING
DTSTART;TZID=America/New_York:20220622T190000
DTEND;TZID=America/New_York:20220622T190000
SUMMARY:Lady D at Capitol Market
DESCRIPTION:Price: N/A\nAge Limit: All Ages\n\nDetails: Lady D and two other local public figures share their stories with an audience during FestivALL.
LOCATION:Capitol Market - 800 Smith St., Charleston, WV, 25301, US
END:VEVENT

END:VCALENDAR
