BEGIN:VCALENDAR
VERSION:2.0
BEGIN:VEVENT
CLASS:PUBLIC
CATEGORIES:MEETING
DTSTART;TZID=America/New_York:20220513T183000
DTEND;TZID=America/New_York:20220513T183000
SUMMARY:Lady D at The Raleigh Playhouse
DESCRIPTION:Price: $10\nAge Limit: All Ages\n\nDetails: The premiere of Lady D&#39;s video series, &quot;Those Who Came Before.&quot; Celebrating W.Va&#39;s black history and heritage from music and much more.
LOCATION:The Raleigh Playhouse - 403 Neville Street, Beckley, WV, 25801, US
END:VEVENT

END:VCALENDAR
