BEGIN:VCALENDAR
VERSION:2.0
BEGIN:VEVENT
CLASS:PUBLIC
CATEGORIES:MEETING
DTSTART;TZID=America/New_York:20220501T140000
DTEND;TZID=America/New_York:20220501T140000
SUMMARY:The Kennedys at The Kennedys' May Day Livestream (#112) Round 4 Your Fave Kennedys Songs, May 1, 2022 2pm EST
DESCRIPTION:Price: free\nClick here to buy tickets: https://youtu.be/krODWnLz3NU\nAge Limit: All Ages\n\nDetails: May Day, May Day! We&#39;re dishing up a 4th week of your favorite Kennedys-penned songs! It&#39;s another all-request show! Sunday, May 1, 2022 at 2pm EST. And tune in for our announcement of our very special summer livestream lineup! We&#39;ve got some great themed livestreams planned for the next several months!! YouTube link for this show: https://youtu.be/krODWnLz3NU\n\nScroll down the YouTube description after this show airs to see a list of the songs we played this episode, along with writer credits, &amp; indication of which album each song is from.\n\nThese shows are only possible with the help of your generous support. It&#39;s a full-time job for us to lovingly put these shows together for you, and so we deeply appreciate your tips. \n\nYou can send your support via Venmo:\nhttps://venmo.com/The_Kennedys\n\nor Paypal:\nhttps://www.paypal.com/paypalme/TheKennedysMusic\n\nOr you can send your support to us directly (no fee) via Zelle or Paypal to: TheKennedys@KennedysMusic.com\n\nor, using good, old-fashioned postal service:\nThe Kennedys\nPO Box 8673\nTarrytown, NY 10591\n\nThanks!\n \nVisit https://youtube.com/playlist?list=PL8j69Zusg8rRj-Qt89xqfKCe8ysZQzZMN for our full weekly livestream archive.\n\nVisit: https://kennedysmusic.com/livestreamsonglist.html to see a list of the 906 different songs we&#39;ve played so far, with the episodes played noted.\n\nThank you! Please stay safe!\nwww.KennedysMusic.com
LOCATION:The Kennedys' May Day Livestream (#112) Round 4 Your Fave Kennedys Songs, May 1, 2022 2pm EST - YouTube, New York, NY, 10011, US
END:VEVENT

END:VCALENDAR
