BEGIN:VCALENDAR
VERSION:2.0
BEGIN:VEVENT
CLASS:PUBLIC
CATEGORIES:MEETING
DTSTART;TZID=America/New_York:20220723T110000
DTEND;TZID=America/New_York:20220723T110000
SUMMARY:Bob Niederriter at Nelson Ledges Quarry Park
DESCRIPTION:Age Limit: All Ages\n\nDetails: Guitar / Organ trio performance with Jon Eshelman on Hammond organ , and Chris Hovan on drums at Nelson Ledges Quarry Park&#39;s Funk N Flow Festival . Time of our performance will be posted later . 
LOCATION:Nelson Ledges Quarry Park - 12001 Rt 282 Nelson Ledge Rd, Garrettsville, OH, 44231, US
END:VEVENT

END:VCALENDAR
