BEGIN:VCALENDAR
VERSION:2.0
BEGIN:VEVENT
CLASS:PUBLIC
CATEGORIES:MEETING
DTSTART;TZID=America/Los_Angeles:20220424T120000
DTEND;TZID=America/Los_Angeles:20220424T120000
SUMMARY:Silver Lining at Sea salt beachside burger
DESCRIPTION:Price: Free\nAge Limit: All Ages\n\nDetails: Country Sunday Funday at Sea Salt with Silver Lining.!
LOCATION:Sea salt beachside burger - 17851 Pacific Coast Highway, Huntington Beach, CA, 92649, US
END:VEVENT

END:VCALENDAR
