BEGIN:VCALENDAR
VERSION:2.0
BEGIN:VEVENT
CLASS:PUBLIC
CATEGORIES:MEETING
DTSTART;TZID=America/Chicago:20100821T200000
DTEND;TZID=America/Chicago:20100821T200000
SUMMARY:HERMANS HERMITS   Peter Noone at Twin Orchard Country Club
DESCRIPTION:Age Limit: All Ages\n\nDetails: THIS IS A PRIVATE PARTY NO TICKETS ARE AVAILABLE
LOCATION:Twin Orchard Country Club - ??, Long Grove, IL, ??, US
END:VEVENT

END:VCALENDAR
