BEGIN:VCALENDAR
VERSION:2.0
BEGIN:VEVENT
CLASS:PUBLIC
CATEGORIES:MEETING
DTSTART;TZID=America/New_York:20220618T110000
DTEND;TZID=America/New_York:20220618T110000
SUMMARY:Lady D at Daniel Vineyards
DESCRIPTION:Click here to buy tickets: https://www.danielvineyards.com\nAge Limit: All Ages\n\nDetails: Lady D performs duo for the Wine Festival.
LOCATION:Daniel Vineyards - 200 Twin Oaks Rd., Crab Orchard, WV, 25827, US
END:VEVENT

END:VCALENDAR
