BEGIN:VCALENDAR
VERSION:2.0
BEGIN:VEVENT
CLASS:PUBLIC
CATEGORIES:MEETING
DTSTART;TZID=America/New_York:20220603T190000
DTEND;TZID=America/New_York:20220603T190000
SUMMARY:Lady D at Music In the Garden
DESCRIPTION:Price: N/A\nAge Limit: All Ages\n\nDetails: Lady D performs as a duo outside in the Richwood community garden.
LOCATION:Music In the Garden - 35 E. Main St., Richwood, WV, 26261, US
END:VEVENT

END:VCALENDAR
