BEGIN:VCALENDAR
VERSION:2.0
BEGIN:VEVENT
CLASS:PUBLIC
CATEGORIES:MEETING
DTSTART;TZID=America/New_York:20220507T130000
DTEND;TZID=America/New_York:20220507T130000
SUMMARY:Lady D at Youth Museum of Southern WV
DESCRIPTION:Price: N/A\nAge Limit: All Ages\n\nDetails: Lady D performs as a duo for &quot;Just For Kids Family Day.&quot;
LOCATION:Youth Museum of Southern WV - 509 Ewart Ave., Beckley, WV, 25801, US
END:VEVENT

END:VCALENDAR
