BEGIN:VCALENDAR
VERSION:2.0
BEGIN:VEVENT
CLASS:PUBLIC
CATEGORIES:MEETING
DTSTART;TZID=America/New_York:20220528T180000
DTEND;TZID=America/New_York:20220528T180000
SUMMARY:Lady D at Cantrell's Sport Bar Grill
DESCRIPTION:Price: N/A\nAge Limit: All Ages\n\nDetails: Lady D &amp; MI$$ION for Memorial Day weekend. Blues, R&amp;B, Reggae and more.
LOCATION:Cantrell's Sport Bar Grill - RR 4 Box 2 Gatewood Road, Fayetteville, WV, 25840, US
END:VEVENT

END:VCALENDAR
