BEGIN:VCALENDAR
VERSION:2.0
BEGIN:VEVENT
CLASS:PUBLIC
CATEGORIES:MEETING
DTSTART;TZID=America/Los_Angeles:20220521T210000
DTEND;TZID=America/Los_Angeles:20220521T210000
SUMMARY:Silver Lining at Jade On the Water
DESCRIPTION:Age Limit: All Ages
LOCATION:Jade On the Water - 6380 East Pacific Coast Highway, Long Beach, CA, 90803, US
END:VEVENT

END:VCALENDAR
