BEGIN:VCALENDAR
VERSION:2.0
BEGIN:VEVENT
CLASS:PUBLIC
CATEGORIES:MEETING
DTSTART;TZID=Europe/London:20221001T130000
DTEND;TZID=Europe/London:20221001T130000
SUMMARY:BB BlackDog Steampunk Rock at Dionysus Festival 
DESCRIPTION:Price: £15\nClick here to buy tickets: https://www.musicglue.com/ppaj-recordings/?fbclid=IwAR2VAQBUmFrEyzQGE6A14hqlArn5aSsAgbDF1cJcr49qxF4rKBhxakonUS0\nAge Limit: All Ages
LOCATION:Dionysus Festival  - 55 Green Lane, Ockbrook, DER, DE72 3SE, UK
END:VEVENT

END:VCALENDAR
