BEGIN:VCALENDAR
VERSION:2.0
BEGIN:VEVENT
CLASS:PUBLIC
CATEGORIES:MEETING
DTSTART;TZID=Europe/London:20220603T120000
DTEND;TZID=Europe/London:20220603T120000
SUMMARY:BB BlackDog Steampunk Rock at Blind Cat Festival
DESCRIPTION:Price: £55\nClick here to buy tickets: https://festivalpeople.co.uk/\nAge Limit: All Ages\n\nDetails: Blind Cat Resurrected Early Bird Tickets are on sale £55 each, this includes Parking and Camping from Thursday night as well as Friday to Sunday.
LOCATION:Blind Cat Festival - Birch Coppice Welfare, Watling Street, Tamworth, B78 1SY, UK
END:VEVENT

END:VCALENDAR
