BEGIN:VCALENDAR
VERSION:2.0
BEGIN:VEVENT
CLASS:PUBLIC
CATEGORIES:MEETING
DTSTART;TZID=Europe/London:20220520T120000
DTEND;TZID=Europe/London:20220520T120000
SUMMARY:BB BlackDog Steampunk Rock at Alice's Wicked Tea Party
DESCRIPTION:Price: £50\nClick here to buy tickets: https://www.wegottickets.com/f/12181\nAge Limit: All Ages\n\nDetails: Alices Wicked Tea Party 2022\n\nWith another spectaculer line up of bands and artists planned it&#39;s time to start gathering the Tribe for another party down the rabbit .\nTribazik / Mr Strange / I(AM)WAFACE / Bad Fractals / Jesus Hooligan / The Wattingers / Legpuppy / Pink Diamond Revue / BB Blackdog / ACME Sewege Co / Jimmy B and the Death Rattles / Rhombus / Living Dead Girl / Myster Action / Malcom Carlo
LOCATION:Alice's Wicked Tea Party - Knolle Farm Soldiers Road, Wareham, DOR, BH20 5DU, UK
END:VEVENT

END:VCALENDAR
