BEGIN:VCALENDAR
VERSION:2.0
BEGIN:VEVENT
CLASS:PUBLIC
CATEGORIES:MEETING
DTSTART;TZID=Europe/London:20220417T120000
DTEND;TZID=Europe/London:20220417T120000
SUMMARY:BB BlackDog Steampunk Rock at Arts Club
DESCRIPTION:Price: £40\nClick here to buy tickets: https://hrhpsych.com/shop/\nAge Limit: All Ages\n\nDetails: Main Stage Showcase as Part of HRH Psych weekend at the Arts club Academy Liverpool  
LOCATION:Arts Club - Liverpool, UK
END:VEVENT

END:VCALENDAR
