BEGIN:VCALENDAR
VERSION:2.0
BEGIN:VEVENT
CLASS:PUBLIC
CATEGORIES:MEETING
DTSTART;TZID=America/New_York:20220819T113000
DTEND;TZID=America/New_York:20220819T113000
SUMMARY:Bob Niederriter at Springfield Museum Of Art
DESCRIPTION:Age Limit: All Ages\n\nDetails: Trio performance at Springfield Museum of Art at the Lunch on the Lawn concert series , from 11:30 am - 1:00 pm . Details TBA .
LOCATION:Springfield Museum Of Art - 107 Cliff Park Rd, Springfield, OH, 45504, US
END:VEVENT

END:VCALENDAR
