BEGIN:VCALENDAR
VERSION:2.0
BEGIN:VEVENT
CLASS:PUBLIC
CATEGORIES:MEETING
DTSTART;TZID=America/New_York:20220702T183000
DTEND;TZID=America/New_York:20220702T183000
SUMMARY:Bob Niederriter at Crocker Park
DESCRIPTION:Age Limit: All Ages\n\nDetails: Trio performance from 6:30 pm - 8:30 pm . Details TBA . 
LOCATION:Crocker Park - 25 Main St, Westlake, OH, 44145, US
END:VEVENT

END:VCALENDAR
