BEGIN:VCALENDAR
VERSION:2.0
BEGIN:VEVENT
CLASS:PUBLIC
CATEGORIES:MEETING
DTSTART;TZID=America/New_York:20220201T120000
DTEND;TZID=America/New_York:20220201T120000
SUMMARY:Lady D at Ohio County Public Library
DESCRIPTION:Price: N/A\nAge Limit: All Ages\n\nDetails: Lady D performs as Bessie Smith, the Empress of the Blues.
LOCATION:Ohio County Public Library - 52 16th St., Wheeling, WV, 26003, US
END:VEVENT

END:VCALENDAR
