BEGIN:VCALENDAR
VERSION:2.0
BEGIN:VEVENT
CLASS:PUBLIC
CATEGORIES:MEETING
DTSTART;TZID=America/New_York:20220625T170000
DTEND;TZID=America/New_York:20220625T170000
SUMMARY:Lady D at Palatine Park Amphitheater
DESCRIPTION:Price: N/A\nAge Limit: All Ages\n\nDetails: &quot;Sounds Good Festival&quot; featuring Lady D &amp; MI$$ION
LOCATION:Palatine Park Amphitheater - Everest Drive, Fairmont, WV, 26554, US
END:VEVENT

END:VCALENDAR
