BEGIN:VCALENDAR
VERSION:2.0
BEGIN:VEVENT
CLASS:PUBLIC
CATEGORIES:MEETING
DTSTART;TZID=America/New_York:20220205T180000
DTEND;TZID=America/New_York:20220205T180000
SUMMARY:Lady D at Love Hope Center for the Arts
DESCRIPTION:Price: N/A\nAge Limit: All Ages\n\nDetails: Lady D Art Exhibit Opening Reception.
LOCATION:Love Hope Center for the Arts - 100 Rotan Dr., Fayetteville, WV, 25840, US
END:VEVENT

END:VCALENDAR
