BEGIN:VCALENDAR
VERSION:2.0
BEGIN:VEVENT
CLASS:PUBLIC
CATEGORIES:MEETING
DTSTART;TZID=America/New_York:20220217T190000
DTEND;TZID=America/New_York:20220217T190000
SUMMARY:Lady D at Love Hope Center for the Arts
DESCRIPTION:Price: $20\nClick here to buy tickets: https://www.eventbrite.com/e/bessies-blues-love-hope-artists-series-featuring-lady-d-tickets-239302198317?fbclid=IwAR0LzL3HRkuCUqwfLBliBpKY_NheBJOApujrBcew3AVGNJKs2X9yLCF_gBk\nAge Limit: All Ages\n\nDetails: Lady D performs her one-woman show, &quot;Bessie&#39;s Blues&quot; based on the life of Bessie Smith, the Empress of the Blues.
LOCATION:Love Hope Center for the Arts - 100 Rotan Dr., Fayetteville, WV, 25840, US
END:VEVENT

END:VCALENDAR
