BEGIN:VCALENDAR
VERSION:2.0
BEGIN:VEVENT
CLASS:PUBLIC
CATEGORIES:MEETING
DTSTART;TZID=America/New_York:20220216T120000
DTEND;TZID=America/New_York:20220216T120000
SUMMARY:Lady D at Bridge Valley CTC
DESCRIPTION:Price: N/A\nAge Limit: All Ages\n\nDetails: Lady D performs as Bessie Smith the Empress of the Blues.
LOCATION:Bridge Valley CTC - 2001 Union Carbide Dr., So. Charleston, WV, 25303, US
END:VEVENT

END:VCALENDAR
