BEGIN:VCALENDAR
VERSION:2.0
BEGIN:VEVENT
CLASS:PUBLIC
CATEGORIES:MEETING
DTSTART;TZID=America/New_York:20220212T140000
DTEND;TZID=America/New_York:20220212T140000
SUMMARY:Lady D at Carnegie Hall
DESCRIPTION:Price: N/A\nAge Limit: All Ages\n\nDetails: Lady D Art Exhibit Opening Reception and performance. &quot;Appalachian Afro Noir.&quot;
LOCATION:Carnegie Hall - 611 Church St., Lewisburg, WV, 24901, US
END:VEVENT

END:VCALENDAR
