BEGIN:VCALENDAR
VERSION:2.0
BEGIN:VEVENT
CLASS:PUBLIC
CATEGORIES:MEETING
DTSTART;TZID=America/New_York:20220120T190000
DTEND;TZID=America/New_York:20220120T190000
SUMMARY:Lady D at Carnegie Hall
DESCRIPTION:Price: $10\nClick here to buy tickets: https://carnegiehallwv.secure.force.com/ticket/?fbclid=IwAR1l7Q0k7048xz6hcu1A0wlDO8EZrNR7dsykSmVp8pMMpdTvzGeFlEIzHXI#/events/a0S3o00001KeobpEAB\nAge Limit: All Ages\n\nDetails: Lady D performs &quot;Bessie&#39;s Blues&quot; her one-woman show based on the life of Bessie Smith, the Empress of the Blues.
LOCATION:Carnegie Hall - 611 Church St., Lewisburg, WV, 24901, US
END:VEVENT

END:VCALENDAR
