BEGIN:VCALENDAR
VERSION:2.0
BEGIN:VEVENT
CLASS:PUBLIC
CATEGORIES:MEETING
DTSTART;TZID=America/Chicago:20220218T200000
DTEND;TZID=America/Chicago:20220218T200000
SUMMARY:Soul Punch at Dogwood Social House
DESCRIPTION:Age Limit: All Ages\n\nDetails: Fun Cover Show 8-12
LOCATION:Dogwood Social House - 15682 Manchester Rd, Ellisville, MO, 63011, US
END:VEVENT

END:VCALENDAR
