BEGIN:VCALENDAR
VERSION:2.0
BEGIN:VEVENT
CLASS:PUBLIC
CATEGORIES:MEETING
DTSTART;TZID=America/Chicago:20220219T190000
DTEND;TZID=America/Chicago:20220219T190000
SUMMARY:Soul Punch at The Crafty Chameleon
DESCRIPTION:Age Limit: All Ages\n\nDetails: Fun Cover Show + Craft Beer, Wood Fired Pizza, and Wings! 
LOCATION:The Crafty Chameleon - 1384 Clarkson Clayton Center, Ellisville, MO, 63011, US
END:VEVENT

END:VCALENDAR
