BEGIN:VCALENDAR
VERSION:2.0
BEGIN:VEVENT
CLASS:PUBLIC
CATEGORIES:MEETING
DTSTART;TZID=America/Los_Angeles:20211120T130000
DTEND;TZID=America/Los_Angeles:20211120T130000
SUMMARY:Silver Lining at Beach City Provisions
DESCRIPTION:Price: Free\nAge Limit: All Ages
LOCATION:Beach City Provisions - 17851 Pacific Coast Highway, Huntington Beach, CA, 92649, US
END:VEVENT

END:VCALENDAR
