BEGIN:VCALENDAR
VERSION:2.0
BEGIN:VEVENT
CLASS:PUBLIC
CATEGORIES:MEETING
DTSTART;TZID=Asia/Kolkata:20210930T200000
DTEND;TZID=Asia/Kolkata:20210930T200000
SUMMARY:spiecamera at spiecamera
DESCRIPTION:Click here to buy tickets: https://www.spycameradelhi.com\nAge Limit: All Ages\n\nDetails: We have various sorts of spy cameras in our stores, for example, Pen Spy Cameras, Bag spy cameras, pot spy cameras, button spy cameras, divider spy cameras, watch spy cameras, stick cameras, and some more. Moreover, we are best around here. Our items are truly dependable, conservative and simple to utilize. You can have these items settling down anyplace in the country. You simply need a little work to visit our site and buy the item.
LOCATION:spiecamera - H.O.2162/29 Guru Arjun Nagar Main Patel Nagar Road, Near Shadipur Metro Station, Delhi, DL, IN
END:VEVENT

END:VCALENDAR
