BEGIN:VCALENDAR
VERSION:2.0
BEGIN:VEVENT
CLASS:PUBLIC
CATEGORIES:MEETING
DTSTART;TZID=America/Los_Angeles:20211212T170000
DTEND;TZID=America/Los_Angeles:20211212T170000
SUMMARY:Silver Lining at Mother's Tavern
DESCRIPTION:Age Limit: 21+
LOCATION:Mother's Tavern - Sunset Beach, CA, US
END:VEVENT

END:VCALENDAR
