BEGIN:VCALENDAR
VERSION:2.0
BEGIN:VEVENT
CLASS:PUBLIC
CATEGORIES:MEETING
DTSTART;TZID=America/Denver:20211105T190000
DTEND;TZID=America/Denver:20211105T190000
SUMMARY:BMP-Ben Martinez Project at Lizard Tail Brewing
DESCRIPTION:Price: Free - No Admission Charge\nClick here to buy tickets: https://www.reverbnation.com/bmpbenmartinezproject\nAge Limit: All Ages\n\nDetails: WHAT:  LIVE JAZZ  hosted by BMT WHERE: LIZARD TAIL BREWING- INDUSTRIAL, Site (LTB-I) *** tel-505-200-9810 *** 3351 Columbia Drive, Albuquerque, NM URL https://www.lizardtailbrewing.com/industrial GETTING THERE: One block East of I25, turn left at traffic light (Princeton Street); THEN-- Make first left (CUTTER STREEET) then first right (COLUMBIA DRIVE) on to Columbia Drive, a few block down on the left will be LTB-I WHEN: FRIDAY  November 5, 7pm to 10pm MST (LOCAL TIME) WHO: BMT is: Josh English *HOUSTON TX* Drums Dave Friedlander *BOSTON MA* Bass Ben Martinez *SAN ANTONIO TX* guitar Original dynamically conversational compositions and our similarly uniquely developed ORIGINAL arrangements of the &quot;pearls&quot; of Jazz greats, such as Chick Corea, Mike Stern, Pat Metheny, Miles Davis, Charlie Parker, Thelonious Monk, John Coltrane FOR MUSIC: See www.reverbnation.com/bmpbenmartinezproject and www.facebook.com/BMTJAZZ TO HEAR OUR MUSIC, and for more details find at top of the BMT page and select the &quot;MORE&quot; tab, and then &quot;COMMUNITY&quot; from the drop down Menu, to hear our music on that page Come by to enjoy our SOOTHNGLY SMOOTH JAZZ STYLINGS in a cool relaxing ambiance on a Sunday afternoon. YOU DESERVE THE RELAXATION -AND ESCAPE! WITH God&#39;s blessings, We look forward to seeing you there.                                          ****************************************                           \n------------------------------------------------------------****************************************Music Samples https://www.reverbnation.com/bmpbenmartinezproject/song/31864451-impressions-john-coltrane https://www.reverbnation.com/bmpbenmartinezproject/song/3386299-some-skunk-funk-randy-brecker https://www.reverbnation.com/bmpbenmartinezproject/song/31877637-blues-by-five-red-garland https://www.reverbnation.com/bmpbenmartinezproject/song/3385778-moroccan-breeze-ben-martinez https://www.reverbnation.com/bmpbenmartinezproject/song/3386316-esta-noche-david-friedlander ****************************************Thanks, Very Respectfully, b Ben Martinez
LOCATION:Lizard Tail Brewing - 9800 Montgomery Boulevard Northeast, Albuquerque, NM, 87111, US
END:VEVENT

END:VCALENDAR
