BEGIN:VCALENDAR
VERSION:2.0
BEGIN:VEVENT
CLASS:PUBLIC
CATEGORIES:MEETING
DTSTART;TZID=America/Denver:20210917T170000
DTEND;TZID=America/Denver:20210917T170000
SUMMARY:BMP-Ben Martinez Project at El Vado Taproom
DESCRIPTION:Price: Free - No Admission Charge\nClick here to buy tickets: https://www.reverbnation.com/bmpbenmartinezproject\nAge Limit: All Ages\n\nDetails: NO COVER CHARGE FREE ADMISSION LIVE JAZZ w BMT -  Ben Martinez TRIO\nEL VADO MOTEL COURTYARD\n2500 Central Ave SW\nALBQ, NM 87104\nFriday Sep 17, 2021\nLIVE WORLD JAZZ MUSIC: 5:30pm to 8:00pm\nCome by and enjoy the soothing jazz stylings of this WORLD CLASS  - WORLD JAZZ TRIO - This is outdoor event in the courtyard.  food/beverages available  out door dining and music under the stars
LOCATION:El Vado Taproom - 2500 Central Avenue Southwest, Albuquerque, NM, 87104, US
END:VEVENT

END:VCALENDAR
