BEGIN:VCALENDAR
VERSION:2.0
BEGIN:VEVENT
CLASS:PUBLIC
CATEGORIES:MEETING
DTSTART;TZID=America/Denver:20211205T160000
DTEND;TZID=America/Denver:20211205T160000
SUMMARY:BMP-Ben Martinez Project at Lizard Tail Brewing
DESCRIPTION:Price: Free - No Admission Charge\nClick here to buy tickets: https://www.reverbnation.com/bmpbenmartinezproject\nAge Limit: All Ages\n\nDetails: (SUNDAYs) ***Weekly*** - 4:00 pm to 7:00 pm\n\nLizard Tail Brewing - Industrial Site\nJazz Jam Session Bring your instrument\n3351 Columbia Drive NE\nAlbuquerque, NM\nSEE\nwww,facebook/BMTJAZZ  - AND -\n\nwww,reverbnation.com/bmpbenmartinezproject\n*****************************************WHAT: Jazz Jamm Session hosted by BMT\n\nWHERE: LIZARD TAIL BREWING- INDUSTRIAL, Site (LTB-I)\ntel-505-200-9810\n3351 Columbia Drive, Albuquerque, NM\n\nURL https://www.lizardtailbrewing.com/industrial\n\nGETTING THERE: One block East of I25, turn left at traffic light (Princeton Street);\nMake first left then first right on to Columbia Drive, a few block down on the left will be LTB-I\n\nWHEN: Sundays, 4pm to 7pm MST (LOCAL TIME)\n\nWHO: BMT is:\n\nJosh English *HOUSTON TX* Drums\nDave Friedlander *BOSTON MA* Bass\nBen Martinez *SAN ANTONIO TX* guitar\n\nOriginal dynamically conversational compositions and our similarly uniquely developed ORIGINAL arrangements of the &quot;pearls&quot; of Jazz greats, such as Chick Corea, Mike Stern, Pat Metheny, Miles Davis, Charlie Parker, Thelonious Monk, John Coltrane\n\nFOR MUSIC: See www.reverbnation.com/bmpbenmartinezproject\n\nand\n\nwww.facebook.com/BMTJAZZ\n\nTO HEAR OUR MUSIC, and for more details find at top of the BMT page and select the &quot;MORE&quot; tab, and then &quot;COMMUNITY&quot; from the drop down Menu, to hear our music on that page\n\nCome by to enjoy our SOOTHNGLY SMOOTH JAZZ STYLINGS in a cool relaxing ambiance on a Sunday afternoon. YOU DESERVE THE RELAXATION -AND ESCAPE!\nWITH God&#39;s blessings, We look forward to seeing you there.\n\nMusic Samples\nhttps://www.reverbnation.com/bmpbenmartinezproject/song/31864451-impressions-john-coltrane\n\nhttps://www.reverbnation.com/bmpbenmartinezproject/song/3386299-some-skunk-funk-randy-brecker\n\nhttps://www.reverbnation.com/bmpbenmartinezproject/song/31877637-blues-by-five-red-garland\n\nhttps://www.reverbnation.com/bmpbenmartinezproject/song/3385778-moroccan-breeze-ben-martinez\n\nhttps://www.reverbnation.com/bmpbenmartinezproject/song/3386316-esta-noche-david-friedlander\n\nThanks,\nVery Respectfully, b\nBen Martinez\n\nTools For:\nArtists\nMusic Industry\nFans\nVenues\n  \n
LOCATION:Lizard Tail Brewing - 9800 Montgomery Boulevard Northeast, Albuquerque, NM, 87111, US
END:VEVENT

END:VCALENDAR
