BEGIN:VCALENDAR
VERSION:2.0
BEGIN:VEVENT
CLASS:PUBLIC
CATEGORIES:MEETING
DTSTART;TZID=Pacific/Auckland:20210918T200000
DTEND;TZID=Pacific/Auckland:20210918T200000
SUMMARY:Phreaze at Phreaze Factory
DESCRIPTION:Click here to buy tickets: https://www.youtube.com/wolfentertainment1\nAge Limit: All Ages\n\nDetails: FREE 24 Hour Non Stop Music Festival broadcasting live from around the world, atarting in New Zealand and ending in Canada!
LOCATION:Phreaze Factory - 159 17th Avenue, Tauranga, BAY O, 3112, NZ
END:VEVENT

END:VCALENDAR
