BEGIN:VCALENDAR
VERSION:2.0
BEGIN:VEVENT
CLASS:PUBLIC
CATEGORIES:MEETING
DTSTART;TZID=America/Denver:20210820T190000
DTEND;TZID=America/Denver:20210820T190000
SUMMARY:BMP-Ben Martinez Project at Lizard Tail Brewing
DESCRIPTION:Price: Free - No Admission Charge\nClick here to buy tickets: https://www.reverbnation.com/bmpbenmartinezproject\nAge Limit: 21+\n\nDetails: Lizard Tail Brewing - Nob Hill \n505-503-7675 \n\n3417 Central Ave.\nLive Jazz  w/ the Ben Martinez Trio \nFriday August 20, 2021 (7pm-10pm)\nLizard Tail Brewing Nob Hill\n3417 Central Ave, NE Suite C\n(In alley between Amhurst and Tulane, north of Central Ave.)\n505-503-7675\n\nBMT - Ben Martinez Trio\n\nDavid Friedlander - Bass\nJosh English - Drums\nBen Martinez - Guitar\n\nhttps://www.lizardtailbrewing.com/locations\n\nhttps://www.lizardtailbrewing.com/nob-hill\n\nGET SOME TAIL: \n\nhttps://www.lizardtailbrewing.com/brews\n\nGET SOME GRUB:\n\nhttps://www.lizardtailbrewing.com/eat-nob-hill\n\n
LOCATION:Lizard Tail Brewing - 9800 Montgomery Boulevard Northeast, Albuquerque, NM, 87111, US
END:VEVENT

END:VCALENDAR
