BEGIN:VCALENDAR
VERSION:2.0
BEGIN:VEVENT
CLASS:PUBLIC
CATEGORIES:MEETING
DTSTART;TZID=America/New_York:20211119T203000
DTEND;TZID=America/New_York:20211119T203000
SUMMARY:Bob Niederriter at Mustard Seed Market and Cafe
DESCRIPTION:Age Limit: All Ages\n\nDetails: Trio performance from 8:30 pm - 11:30 pm . Details TBA .
LOCATION:Mustard Seed Market and Cafe - 867 West Market Street, Akron, OH, 44303, US
END:VEVENT

END:VCALENDAR
