BEGIN:VCALENDAR
VERSION:2.0
BEGIN:VEVENT
CLASS:PUBLIC
CATEGORIES:MEETING
DTSTART;TZID=America/New_York:20210828T180000
DTEND;TZID=America/New_York:20210828T180000
SUMMARY:Bob Niederriter at Colonal Wine and Beverage
DESCRIPTION:Age Limit: All Ages\n\nDetails: Trio performance from 6:00 pm - 9:00 pm . Details TBA .\n
LOCATION:Colonal Wine and Beverage - 8389 Mayfield Rd, Chesterland, OH, 44026, US
END:VEVENT

END:VCALENDAR
